BEGIN:VCALENDAR
VERSION:2.0
PRODID:-//Chula Vista Golf Course - ECPv6.15.20//NONSGML v1.0//EN
CALSCALE:GREGORIAN
METHOD:PUBLISH
X-WR-CALNAME:Chula Vista Golf Course
X-ORIGINAL-URL:https://chulavistagc.com
X-WR-CALDESC:Events for Chula Vista Golf Course
REFRESH-INTERVAL;VALUE=DURATION:PT1H
X-Robots-Tag:noindex
X-PUBLISHED-TTL:PT1H
BEGIN:VTIMEZONE
TZID:UTC
BEGIN:STANDARD
TZOFFSETFROM:+0000
TZOFFSETTO:+0000
TZNAME:UTC
DTSTART:20230101T000000
END:STANDARD
END:VTIMEZONE
BEGIN:VEVENT
DTSTART;VALUE=DATE:20250527
DTEND;VALUE=DATE:20250528
DTSTAMP:20260422T220634
CREATED:20250120T221315Z
LAST-MODIFIED:20250120T221315Z
UID:22227-1748304000-1748390399@chulavistagc.com
SUMMARY:Memorial Day
DESCRIPTION:Honoring and remembering those who served. Join us this Memorial Day at Chula Vista Golf Course for a day of reflection and relaxation.
URL:https://chulavistagc.com/event/memorial-day/
ATTACH;FMTTYPE=image/png:https://chulavistagc.com/wp-content/uploads/2025/01/Memorial-Day-Instagram-Post.png
END:VEVENT
BEGIN:VEVENT
DTSTART;TZID=UTC:20250518T130000
DTEND;TZID=UTC:20250518T180000
DTSTAMP:20260422T220634
CREATED:20250401T175341Z
LAST-MODIFIED:20250401T175521Z
UID:22325-1747573200-1747591200@chulavistagc.com
SUMMARY:Ray Hinton Memorial Charity Golf Tournament
DESCRIPTION:Join us at Chula Vista Golf Course for the Ray Hinton Memorial Charity Golf Tournament on Sunday\, May 18\, 2025. This 4-person scramble kicks off with a 1 PM shotgun start and promises a day of fun\, friendly competition—all for a great cause. \nFor just $89 per golfer\, your entry includes: \n\nGreens fee \nCart fee \nRange balls \nDrink ticket \nRaffle ticket\n\nStick around after the round for a banquet and raffle\, with prizes for long drive\, closest to the pin (CTPs)\, and 1st\, 2nd\, and 3rd place teams. \nProceeds benefit the Touchstone Golf Foundation and the Ray Hinton Memorial Fund\, supporting our community through the game we love. \n📞 To register or learn more\, call 1-619-479-4141.Let’s tee it up for a great cause—see you on the course!
URL:https://chulavistagc.com/event/ray-hinton-memorial-charity-golf-tournament/
LOCATION:Chula Vista Golf Course\, 4475 Bonita Rd.\, Bonita\, CA\, 91902\, United States
ATTACH;FMTTYPE=image/png:https://chulavistagc.com/wp-content/uploads/2025/04/Ray-Hinton-Memorial-Charity-Golf-Tournament-Flyer-Old-Version.png
END:VEVENT
BEGIN:VEVENT
DTSTART;TZID=UTC:20250514T150000
DTEND;TZID=UTC:20250514T200000
DTSTAMP:20260422T220634
CREATED:20250121T200829Z
LAST-MODIFIED:20250121T200829Z
UID:22267-1747234800-1747252800@chulavistagc.com
SUMMARY:Fiesta Street Market
DESCRIPTION:Held in the parking lot of the Chula Vista Golf Course\, the Fiesta Street Markets is your ultimate destination for vibrant street market experiences\, stellar performances\, and delicious culinary delights provided by local vendors.
URL:https://chulavistagc.com/event/fiesta-street-market-20/
LOCATION:Chula Vista Golf Course\, 4475 Bonita Rd.\, Bonita\, CA\, 91902\, United States
ATTACH;FMTTYPE=image/png:https://chulavistagc.com/wp-content/uploads/2024/11/Screenshot-2024-11-20-110402.png
END:VEVENT
BEGIN:VEVENT
DTSTART;TZID=UTC:20250511T100000
DTEND;TZID=UTC:20250511T143000
DTSTAMP:20260422T220634
CREATED:20250422T163616Z
LAST-MODIFIED:20250422T171902Z
UID:22338-1746957600-1746973800@chulavistagc.com
SUMMARY:Mother's Day Brunch at the Chula Vista Golf Course
DESCRIPTION:Mother’s Day Brunch at Chula Vista Golf CourseSunday\, May 12 | Seatings at 10:00 AM & 12:30 PMLocation: Chula Vista Golf Course – 4475 Bonita Rd\, Bonita\, CA 91902 \nCelebrate the moms in your life with a relaxing morning filled with scenic views\, great company\, and a delicious brunch buffet at Chula Vista Golf Course. \n✨ Enjoy a bountiful buffet featuring classic brunch favorites and seasonal specialties.🌸 A perfect way to say “thank you” to Mom with a memorable meal in a beautiful setting. \nTwo Seatings Available:🕙 First Seating – 10:00 AM🕧 Second Seating – 12:30 PM \n🎟️ Tickets are required for all guests and must be purchased in advance. \n\n\nAdults: $54.99 \n\n\nChildren (ages 3–12): $22.99 \n\n\nChildren under 3: Free (but a reserved ticket is still required for headcount) \n\n\nMake this Mother’s Day unforgettable at Chula Vista Golf Course. Reserve your table today—seating is limited and this event sells out fast!
URL:https://chulavistagc.com/event/mothers-day-brunch-at-the-chula-vista-golf-course/
LOCATION:Chula Vista Golf Course\, 4475 Bonita Rd.\, Bonita\, CA\, 91902\, United States
ATTACH;FMTTYPE=image/png:https://chulavistagc.com/wp-content/uploads/2025/04/Mothers-Day-2025-Flyer-No-QR-Code-Eventbrite-Booking-Prices.png
END:VEVENT
BEGIN:VEVENT
DTSTART;VALUE=DATE:20250511
DTEND;VALUE=DATE:20250512
DTSTAMP:20260422T220634
CREATED:20250120T221729Z
LAST-MODIFIED:20250422T171934Z
UID:22230-1746921600-1747007999@chulavistagc.com
SUMMARY:Happy Mother's Day
DESCRIPTION:Happy Mother’s Day from Chula Vista Golf Course! Celebrate the special women in your life with a relaxing day on the course or plan a family outing to make her feel loved and appreciated!
URL:https://chulavistagc.com/event/happy-mothers-day/
ATTACH;FMTTYPE=image/png:https://chulavistagc.com/wp-content/uploads/2025/01/Happy-Mothers-Day-Instagram-Post.png
END:VEVENT
BEGIN:VEVENT
DTSTART;TZID=UTC:20250420T100000
DTEND;TZID=UTC:20250420T143000
DTSTAMP:20260422T220634
CREATED:20250120T215437Z
LAST-MODIFIED:20250325T182925Z
UID:22211-1745143200-1745159400@chulavistagc.com
SUMMARY:Easter Brunch and Egg Hunt
DESCRIPTION:Hop into the Easter Spirit at Chula Vista Golf Course! \nCelebrate Easter in style with family and friends at our annual Easter Brunch! Join us for a festive day packed with delicious food\, fun activities\, and cherished memories. \n🌸 Indulge in a delightful brunch buffet featuring a variety of tasty dishes to please every palate.\n🥂 Adults can toast the holiday with mimosas (21+)\, adding a sparkling touch to your celebration\, included in the price of your adult ticket!\n🌈 The kids will have a blast during our exciting Easter egg hunt\, searching high and low for colorful treasures.\n📸 Capture the magic of the day with photo opportunities with the Easter Bunny\, creating keepsakes to treasure forever. \n📅 Date: 04/20/2025\n⏰ Time: 10am-12pm and 12:30pm-2:30pm\n📍 Location: Chula Vista Golf Course
URL:https://chulavistagc.com/event/easter-brunch-and-egg-hunt/
LOCATION:Chula Vista Golf Course\, 4475 Bonita Rd.\, Bonita\, CA\, 91902\, United States
ATTACH;FMTTYPE=image/png:https://chulavistagc.com/wp-content/uploads/2025/01/Easter-Brunch-Flyer-No-Code.png
END:VEVENT
BEGIN:VEVENT
DTSTART;VALUE=DATE:20250420
DTEND;VALUE=DATE:20250421
DTSTAMP:20260422T220634
CREATED:20250120T215740Z
LAST-MODIFIED:20250120T215740Z
UID:22215-1745107200-1745193599@chulavistagc.com
SUMMARY:Easter
DESCRIPTION:Happy Easter from the Chula Vista Golf Course! We are wishing you a day full of fun and laughs!
URL:https://chulavistagc.com/event/easter/
ATTACH;FMTTYPE=image/png:https://chulavistagc.com/wp-content/uploads/2025/01/Happy-Easter-Instagram-Post-.png
END:VEVENT
BEGIN:VEVENT
DTSTART;TZID=UTC:20250416T150000
DTEND;TZID=UTC:20250416T200000
DTSTAMP:20260422T220634
CREATED:20250121T200715Z
LAST-MODIFIED:20250121T200715Z
UID:22259-1744815600-1744833600@chulavistagc.com
SUMMARY:Fiesta Street Market
DESCRIPTION:Held in the parking lot of the Chula Vista Golf Course\, the Fiesta Street Markets is your ultimate destination for vibrant street market experiences\, stellar performances\, and delicious culinary delights provided by local vendors.
URL:https://chulavistagc.com/event/fiesta-street-market-16/
LOCATION:Chula Vista Golf Course\, 4475 Bonita Rd.\, Bonita\, CA\, 91902\, United States
ATTACH;FMTTYPE=image/png:https://chulavistagc.com/wp-content/uploads/2024/11/Screenshot-2024-11-20-110402.png
END:VEVENT
BEGIN:VEVENT
DTSTART;VALUE=DATE:20250331
DTEND;VALUE=DATE:20250401
DTSTAMP:20260422T220634
CREATED:20250329T202528Z
LAST-MODIFIED:20250329T202604Z
UID:22322-1743379200-1743465599@chulavistagc.com
SUMMARY:César Chávez Day
DESCRIPTION:In observance of César Chávez Day\, the course will remain open during regular hours (5:30 AM – 7:00 PM). We invite you to enjoy a peaceful day on the course as we honor the legacy of César Chávez.
URL:https://chulavistagc.com/event/cesar-chavez-day/
ATTACH;FMTTYPE=image/jpeg:https://chulavistagc.com/wp-content/uploads/2025/03/cesar-chavez-day.jpg
END:VEVENT
BEGIN:VEVENT
DTSTART;TZID=UTC:20250319T150000
DTEND;TZID=UTC:20250319T200000
DTSTAMP:20260422T220634
CREATED:20250121T200541Z
LAST-MODIFIED:20250121T200541Z
UID:22251-1742396400-1742414400@chulavistagc.com
SUMMARY:Fiesta Street Market
DESCRIPTION:Held in the parking lot of the Chula Vista Golf Course\, the Fiesta Street Markets is your ultimate destination for vibrant street market experiences\, stellar performances\, and delicious culinary delights provided by local vendors.
URL:https://chulavistagc.com/event/fiesta-street-market-12/
LOCATION:Chula Vista Golf Course\, 4475 Bonita Rd.\, Bonita\, CA\, 91902\, United States
ATTACH;FMTTYPE=image/png:https://chulavistagc.com/wp-content/uploads/2024/11/Screenshot-2024-11-20-110402.png
END:VEVENT
BEGIN:VEVENT
DTSTART;TZID=UTC:20250312T150000
DTEND;TZID=UTC:20250312T200000
DTSTAMP:20260422T220634
CREATED:20250121T200439Z
LAST-MODIFIED:20250121T200439Z
UID:22249-1741791600-1741809600@chulavistagc.com
SUMMARY:Fiesta Street Market
DESCRIPTION:Held in the parking lot of the Chula Vista Golf Course\, the Fiesta Street Markets is your ultimate destination for vibrant street market experiences\, stellar performances\, and delicious culinary delights provided by local vendors.
URL:https://chulavistagc.com/event/fiesta-street-market-11/
LOCATION:Chula Vista Golf Course\, 4475 Bonita Rd.\, Bonita\, CA\, 91902\, United States
ATTACH;FMTTYPE=image/png:https://chulavistagc.com/wp-content/uploads/2024/11/Screenshot-2024-11-20-110402.png
END:VEVENT
BEGIN:VEVENT
DTSTART;TZID=UTC:20250305T150000
DTEND;TZID=UTC:20250305T200000
DTSTAMP:20260422T220634
CREATED:20250121T200409Z
LAST-MODIFIED:20250121T200409Z
UID:22247-1741186800-1741204800@chulavistagc.com
SUMMARY:Fiesta Street Market
DESCRIPTION:Held in the parking lot of the Chula Vista Golf Course\, the Fiesta Street Markets is your ultimate destination for vibrant street market experiences\, stellar performances\, and delicious culinary delights provided by local vendors.
URL:https://chulavistagc.com/event/fiesta-street-market-10/
LOCATION:Chula Vista Golf Course\, 4475 Bonita Rd.\, Bonita\, CA\, 91902\, United States
ATTACH;FMTTYPE=image/png:https://chulavistagc.com/wp-content/uploads/2024/11/Screenshot-2024-11-20-110402.png
END:VEVENT
BEGIN:VEVENT
DTSTART;TZID=UTC:20250226T150000
DTEND;TZID=UTC:20250226T200000
DTSTAMP:20260422T220634
CREATED:20250121T200330Z
LAST-MODIFIED:20250121T200330Z
UID:22245-1740582000-1740600000@chulavistagc.com
SUMMARY:Fiesta Street Market
DESCRIPTION:Held in the parking lot of the Chula Vista Golf Course\, the Fiesta Street Markets is your ultimate destination for vibrant street market experiences\, stellar performances\, and delicious culinary delights provided by local vendors.
URL:https://chulavistagc.com/event/fiesta-street-market-9/
LOCATION:Chula Vista Golf Course\, 4475 Bonita Rd.\, Bonita\, CA\, 91902\, United States
ATTACH;FMTTYPE=image/png:https://chulavistagc.com/wp-content/uploads/2024/11/Screenshot-2024-11-20-110402.png
END:VEVENT
BEGIN:VEVENT
DTSTART;TZID=UTC:20250219T150000
DTEND;TZID=UTC:20250219T200000
DTSTAMP:20260422T220634
CREATED:20250121T200302Z
LAST-MODIFIED:20250121T200302Z
UID:22243-1739977200-1739995200@chulavistagc.com
SUMMARY:Fiesta Street Market
DESCRIPTION:Held in the parking lot of the Chula Vista Golf Course\, the Fiesta Street Markets is your ultimate destination for vibrant street market experiences\, stellar performances\, and delicious culinary delights provided by local vendors.
URL:https://chulavistagc.com/event/fiesta-street-market-8/
LOCATION:Chula Vista Golf Course\, 4475 Bonita Rd.\, Bonita\, CA\, 91902\, United States
ATTACH;FMTTYPE=image/png:https://chulavistagc.com/wp-content/uploads/2024/11/Screenshot-2024-11-20-110402.png
END:VEVENT
BEGIN:VEVENT
DTSTART;VALUE=DATE:20250217
DTEND;VALUE=DATE:20250218
DTSTAMP:20260422T220634
CREATED:20250120T220920Z
LAST-MODIFIED:20250120T220920Z
UID:22224-1739750400-1739836799@chulavistagc.com
SUMMARY:President's Day
DESCRIPTION:Happy Presidents’ Day from Chula Vista Golf Course! Celebrate the long weekend with a round of golf and great company!
URL:https://chulavistagc.com/event/presidents-day/
ATTACH;FMTTYPE=image/png:https://chulavistagc.com/wp-content/uploads/2025/01/Presidents-Day-Insta-Post.png
END:VEVENT
BEGIN:VEVENT
DTSTART;VALUE=DATE:20250214
DTEND;VALUE=DATE:20250215
DTSTAMP:20260422T220634
CREATED:20250120T215955Z
LAST-MODIFIED:20250120T215955Z
UID:22218-1739491200-1739577599@chulavistagc.com
SUMMARY:Valentine's Day
DESCRIPTION:Happy Valentine’s Day from Chula Vista Golf Course! Celebrate the day of love with us and make it one to remember!
URL:https://chulavistagc.com/event/valentines-day/
ATTACH;FMTTYPE=image/png:https://chulavistagc.com/wp-content/uploads/2025/01/Valentines-Day-Graphic-1.png
END:VEVENT
BEGIN:VEVENT
DTSTART;TZID=UTC:20250212T150000
DTEND;TZID=UTC:20250212T200000
DTSTAMP:20260422T220634
CREATED:20250121T200231Z
LAST-MODIFIED:20250121T200231Z
UID:22241-1739372400-1739390400@chulavistagc.com
SUMMARY:Fiesta Street Market
DESCRIPTION:Held in the parking lot of the Chula Vista Golf Course\, the Fiesta Street Markets is your ultimate destination for vibrant street market experiences\, stellar performances\, and delicious culinary delights provided by local vendors.
URL:https://chulavistagc.com/event/fiesta-street-market-7/
LOCATION:Chula Vista Golf Course\, 4475 Bonita Rd.\, Bonita\, CA\, 91902\, United States
ATTACH;FMTTYPE=image/png:https://chulavistagc.com/wp-content/uploads/2024/11/Screenshot-2024-11-20-110402.png
END:VEVENT
BEGIN:VEVENT
DTSTART;TZID=UTC:20250205T150000
DTEND;TZID=UTC:20250205T200000
DTSTAMP:20260422T220634
CREATED:20250121T200153Z
LAST-MODIFIED:20250121T200153Z
UID:22239-1738767600-1738785600@chulavistagc.com
SUMMARY:Fiesta Street Market
DESCRIPTION:Held in the parking lot of the Chula Vista Golf Course\, the Fiesta Street Markets is your ultimate destination for vibrant street market experiences\, stellar performances\, and delicious culinary delights provided by local vendors.
URL:https://chulavistagc.com/event/fiesta-street-market-6/
LOCATION:Chula Vista Golf Course\, 4475 Bonita Rd.\, Bonita\, CA\, 91902\, United States
ATTACH;FMTTYPE=image/png:https://chulavistagc.com/wp-content/uploads/2024/11/Screenshot-2024-11-20-110402.png
END:VEVENT
BEGIN:VEVENT
DTSTART;TZID=UTC:20250129T150000
DTEND;TZID=UTC:20250129T200000
DTSTAMP:20260422T220634
CREATED:20250121T200111Z
LAST-MODIFIED:20250121T200111Z
UID:22237-1738162800-1738180800@chulavistagc.com
SUMMARY:Fiesta Street Market
DESCRIPTION:Held in the parking lot of the Chula Vista Golf Course\, the Fiesta Street Markets is your ultimate destination for vibrant street market experiences\, stellar performances\, and delicious culinary delights provided by local vendors.
URL:https://chulavistagc.com/event/fiesta-street-market-5/
LOCATION:Chula Vista Golf Course\, 4475 Bonita Rd.\, Bonita\, CA\, 91902\, United States
ATTACH;FMTTYPE=image/png:https://chulavistagc.com/wp-content/uploads/2024/11/Screenshot-2024-11-20-110402.png
END:VEVENT
BEGIN:VEVENT
DTSTART;TZID=UTC:20250122T150000
DTEND;TZID=UTC:20250122T200000
DTSTAMP:20260422T220634
CREATED:20250121T200018Z
LAST-MODIFIED:20250121T200029Z
UID:22234-1737558000-1737576000@chulavistagc.com
SUMMARY:Fiesta Street Market
DESCRIPTION:Held in the parking lot of the Chula Vista Golf Course\, the Fiesta Street Markets is your ultimate destination for vibrant street market experiences\, stellar performances\, and delicious culinary delights provided by local vendors.
URL:https://chulavistagc.com/event/fiesta-street-market-copy/
LOCATION:Chula Vista Golf Course\, 4475 Bonita Rd.\, Bonita\, CA\, 91902\, United States
ATTACH;FMTTYPE=image/png:https://chulavistagc.com/wp-content/uploads/2024/11/Screenshot-2024-11-20-110402.png
END:VEVENT
BEGIN:VEVENT
DTSTART;VALUE=DATE:20250120
DTEND;VALUE=DATE:20250121
DTSTAMP:20260422T220634
CREATED:20250120T220207Z
LAST-MODIFIED:20250120T220207Z
UID:22221-1737331200-1737417599@chulavistagc.com
SUMMARY:Martin Luther King Jr. Day
DESCRIPTION:Honoring the legacy of Martin Luther King Jr. at Chula Vista Golf Course. Wishing everyone a meaningful and inspiring day!
URL:https://chulavistagc.com/event/martin-luther-king-jr-day/
ATTACH;FMTTYPE=image/png:https://chulavistagc.com/wp-content/uploads/2025/01/MLK-Day-Post-1.png
END:VEVENT
BEGIN:VEVENT
DTSTART;VALUE=DATE:20241231
DTEND;VALUE=DATE:20250101
DTSTAMP:20260422T220634
CREATED:20241114T221653Z
LAST-MODIFIED:20241114T221653Z
UID:22136-1735603200-1735689599@chulavistagc.com
SUMMARY:New Year's Eve
DESCRIPTION:Happy New Year’s Eve from the Chula Vista Golf Course Team! Have a happy holiday and we will see you next year!
URL:https://chulavistagc.com/event/new-years-eve/
ATTACH;FMTTYPE=image/png:https://chulavistagc.com/wp-content/uploads/2024/11/Blue-Modern-Happy-New-Year-Instagram-Post-.png
END:VEVENT
BEGIN:VEVENT
DTSTART;TZID=UTC:20241211T150000
DTEND;TZID=UTC:20241211T200000
DTSTAMP:20260422T220634
CREATED:20241120T191146Z
LAST-MODIFIED:20241120T191146Z
UID:22153-1733929200-1733947200@chulavistagc.com
SUMMARY:Fiesta Street Market
DESCRIPTION:Held in the parking lot of the Chula Vista Golf Course\, the Fiesta Street Markets is your ultimate destination for vibrant street market experiences\, stellar performances\, and delicious culinary delights provided by local vendors.
URL:https://chulavistagc.com/event/fiesta-street-market-4/
LOCATION:Chula Vista Golf Course\, 4475 Bonita Rd.\, Bonita\, CA\, 91902\, United States
ATTACH;FMTTYPE=image/png:https://chulavistagc.com/wp-content/uploads/2024/11/Screenshot-2024-11-20-110402.png
END:VEVENT
BEGIN:VEVENT
DTSTART;TZID=UTC:20241208T100000
DTEND;TZID=UTC:20241208T140000
DTSTAMP:20260422T220634
CREATED:20241111T135517Z
LAST-MODIFIED:20250422T171840Z
UID:22105-1733652000-1733666400@chulavistagc.com
SUMMARY:Breakfast with Santa
DESCRIPTION:BOOK YOUR SPOT NOW!\nRSVP to Rebecca Del Toro\nOr Purchase Tickets Below\nPhone: 619-479-4141 Ext. 225\nEmail: rdeltoro@chulavistagc.com
URL:https://chulavistagc.com/event/breakfast-with-santa/
LOCATION:Chula Vista Golf Course\, 4475 Bonita Rd.\, Bonita\, CA\, 91902\, United States
ATTACH;FMTTYPE=image/png:https://chulavistagc.com/wp-content/uploads/2024/11/Breakfast-with-Santa-2025.png
END:VEVENT
BEGIN:VEVENT
DTSTART;TZID=UTC:20241204T150000
DTEND;TZID=UTC:20241204T200000
DTSTAMP:20260422T220634
CREATED:20241120T191110Z
LAST-MODIFIED:20241120T191110Z
UID:22151-1733324400-1733342400@chulavistagc.com
SUMMARY:Fiesta Street Market
DESCRIPTION:Held in the parking lot of the Chula Vista Golf Course\, the Fiesta Street Markets is your ultimate destination for vibrant street market experiences\, stellar performances\, and delicious culinary delights provided by local vendors.
URL:https://chulavistagc.com/event/fiesta-street-market-3/
LOCATION:Chula Vista Golf Course\, 4475 Bonita Rd.\, Bonita\, CA\, 91902\, United States
ATTACH;FMTTYPE=image/png:https://chulavistagc.com/wp-content/uploads/2024/11/Screenshot-2024-11-20-110402.png
END:VEVENT
BEGIN:VEVENT
DTSTART;VALUE=DATE:20241129
DTEND;VALUE=DATE:20241130
DTSTAMP:20260422T220634
CREATED:20241126T165246Z
LAST-MODIFIED:20241126T165356Z
UID:22158-1732838400-1732924799@chulavistagc.com
SUMMARY:Black Friday
DESCRIPTION:Swing into savings this Black Friday at the Chula Vista Golf Course! Visit our golf shop to grab the perfect gifts for the golf lovers in your life. Choose from exclusive promotional gift cards and beautifully curated gift baskets\, designed to make their holiday season unforgettable. Don’t miss out—this deal is available for a limited time only. Shop local\, give big\, and spread the joy of golf!
URL:https://chulavistagc.com/event/black-friday/
LOCATION:Chula Vista Golf Course\, 4475 Bonita Rd.\, Bonita\, CA\, 91902\, United States
ATTACH;FMTTYPE=image/png:https://chulavistagc.com/wp-content/uploads/2024/11/Black-Friday-Events-Calender-Post-1.png
END:VEVENT
BEGIN:VEVENT
DTSTART;VALUE=DATE:20241128
DTEND;VALUE=DATE:20241129
DTSTAMP:20260422T220634
CREATED:20241112T222107Z
LAST-MODIFIED:20241112T222107Z
UID:22123-1732752000-1732838399@chulavistagc.com
SUMMARY:Thanksgiving
DESCRIPTION:Happy Thanksgiving from the Chula Vista Golf Course Team!
URL:https://chulavistagc.com/event/thanksgiving/
ATTACH;FMTTYPE=image/png:https://chulavistagc.com/wp-content/uploads/2024/11/Chula-Vists-Thanksgiving-Event-Calender-Promo.png
END:VEVENT
BEGIN:VEVENT
DTSTART;TZID=UTC:20241127T150000
DTEND;TZID=UTC:20241127T200000
DTSTAMP:20260422T220634
CREATED:20241120T191017Z
LAST-MODIFIED:20241120T191017Z
UID:22149-1732719600-1732737600@chulavistagc.com
SUMMARY:Fiesta Street Market
DESCRIPTION:Held in the parking lot of the Chula Vista Golf Course\, the Fiesta Street Markets is your ultimate destination for vibrant street market experiences\, stellar performances\, and delicious culinary delights provided by local vendors.
URL:https://chulavistagc.com/event/fiesta-street-market-2/
LOCATION:Chula Vista Golf Course\, 4475 Bonita Rd.\, Bonita\, CA\, 91902\, United States
ATTACH;FMTTYPE=image/png:https://chulavistagc.com/wp-content/uploads/2024/11/Screenshot-2024-11-20-110402.png
END:VEVENT
BEGIN:VEVENT
DTSTART;TZID=UTC:20241120T150000
DTEND;TZID=UTC:20241120T200000
DTSTAMP:20260422T220634
CREATED:20241120T190934Z
LAST-MODIFIED:20241120T190934Z
UID:22147-1732114800-1732132800@chulavistagc.com
SUMMARY:Fiesta Street Market
DESCRIPTION:Held in the parking lot of the Chula Vista Golf Course\, the Fiesta Street Markets is your ultimate destination for vibrant street market experiences\, stellar performances\, and delicious culinary delights provided by local vendors.
URL:https://chulavistagc.com/event/fiesta-street-market/
LOCATION:Chula Vista Golf Course\, 4475 Bonita Rd.\, Bonita\, CA\, 91902\, United States
ATTACH;FMTTYPE=image/png:https://chulavistagc.com/wp-content/uploads/2024/11/Screenshot-2024-11-20-110402.png
END:VEVENT
BEGIN:VEVENT
DTSTART;TZID=UTC:20241115T130000
DTEND;TZID=UTC:20241115T153000
DTSTAMP:20260422T220634
CREATED:20241112T184535Z
LAST-MODIFIED:20241112T184644Z
UID:22112-1731675600-1731684600@chulavistagc.com
SUMMARY:Bonita Optimist Blood Drive
DESCRIPTION:Color Someone’s Life this Fall. Saving lives is always in season. Schedule an appointment today! Walk-in’s are welcome! Make sure to stay hydrated and bring your photo ID for check-in. \nBonita Optimist Blood Drive 
URL:https://chulavistagc.com/event/bonita-optimist-blood-drive/
LOCATION:Chula Vista Golf Course\, 4475 Bonita Rd.\, Bonita\, CA\, 91902\, United States
ATTACH;FMTTYPE=application/pdf:https://chulavistagc.com/wp-content/uploads/2024/11/Bonita-Optimist-Blood-Drive-111524-1.pdf
END:VEVENT
END:VCALENDAR